BEGIN:VCALENDAR
VERSION:2.0
PRODID:-//81.88.36.52//NONSGML kigkonsult.se iCalcreator 2.20//
CALSCALE:GREGORIAN
METHOD:PUBLISH
X-WR-TIMEZONE:Europe/Vienna
BEGIN:VEVENT
UID:event1351@Online-Magazin SCHNAPPEN.AT: die interessanten Seiten des Leb
 ens
DTSTAMP:20260425T122102Z
CATEGORIES:Veranstaltungen
DESCRIPTION:Uhudlerlandestheater: Orpheus - Wo denn hier zur Unterwelt?\nKa
 tegorie: Veranstaltungen\nICS-Link: https://schnappen.at/oesterreich/index
 .php?option=com_jem&view=event&id=1351:uhudlertheater\n
DTSTART;VALUE=DATE:20260827
DTEND;VALUE=DATE:20260907
LOCATION:Schloss Tabor \,Taborstraße 3\,8385 Neuhaus am Klausenbach
SUMMARY:Uhudlerlandestheater: Orpheus - Wo denn hier zur Unterwelt?
URL:https://schnappen.at/oesterreich/index.php?option=com_jem&view=event&id
 =1351:uhudlertheater
END:VEVENT
END:VCALENDAR