BEGIN:VCALENDAR
VERSION:2.0
PRODID:-//81.88.36.52//NONSGML kigkonsult.se iCalcreator 2.20//
CALSCALE:GREGORIAN
METHOD:PUBLISH
X-WR-TIMEZONE:Europe/Vienna
BEGIN:VEVENT
UID:event1347@Online-Magazin SCHNAPPEN.AT: die interessanten Seiten des Leb
 ens
DTSTAMP:20260425T121657Z
CATEGORIES:Termine noch offen
DESCRIPTION:Schnaps-Genuss-Meile im Apfeldorf Kukmirn\nKategorie: Termine n
 och offen\nICS-Link: https://schnappen.at/oesterreich/index.php?option=com
 _jem&view=event&id=1347:schnaps\n
DTSTART;VALUE=DATE:20260912
DTEND;VALUE=DATE:20260913
SUMMARY:Schnaps-Genuss-Meile im Apfeldorf Kukmirn
URL:https://schnappen.at/oesterreich/index.php?option=com_jem&view=event&id
 =1347:schnaps
END:VEVENT
END:VCALENDAR