BEGIN:VCALENDAR
VERSION:2.0
PRODID:-//81.88.36.52//NONSGML kigkonsult.se iCalcreator 2.20//
CALSCALE:GREGORIAN
METHOD:PUBLISH
X-WR-TIMEZONE:Europe/Vienna
BEGIN:VEVENT
UID:event1317@Online-Magazin SCHNAPPEN.AT: die interessanten Seiten des Leb
 ens
DTSTAMP:20260425T105622Z
CATEGORIES:Veranstaltungen\, Heurigentermine
DESCRIPTION:Tieschen: Weinblütenfest & Kellergasslfest\nKategorie: Veransta
 ltungen\, Heurigentermine\nICS-Link: https://schnappen.at/oesterreich/inde
 x.php?option=com_jem&view=event&id=1317:weinbluetenfest\n
DTSTART;TZID=Europe/Vienna:20260524T110000
DTEND;TZID=Europe/Vienna:20260524T233000
LOCATION:Tieschen: Aunberg\,Tieschen 55\,8355 Tieschen
SUMMARY:Tieschen: Weinblütenfest & Kellergasslfest
URL:https://schnappen.at/oesterreich/index.php?option=com_jem&view=event&id
 =1317:weinbluetenfest
END:VEVENT
END:VCALENDAR