BEGIN:VCALENDAR
VERSION:2.0
PRODID:-//81.88.36.52//NONSGML kigkonsult.se iCalcreator 2.20//
CALSCALE:GREGORIAN
METHOD:PUBLISH
X-WR-TIMEZONE:Europe/Vienna
BEGIN:VEVENT
UID:event1312@Online-Magazin SCHNAPPEN.AT: die interessanten Seiten des Leb
 ens
DTSTAMP:20260425T121919Z
CATEGORIES:Veranstaltungen
DESCRIPTION:Norbert Schneider \nKategorie: Veranstaltungen\nICS-Link: https
 ://schnappen.at/oesterreich/index.php?option=com_jem&view=event&id=1312:sc
 hneider\n
DTSTART;VALUE=DATE:20261030
DTEND;VALUE=DATE:20261031
SUMMARY:Norbert Schneider 
URL:https://schnappen.at/oesterreich/index.php?option=com_jem&view=event&id
 =1312:schneider
END:VEVENT
END:VCALENDAR