BEGIN:VCALENDAR
VERSION:2.0
PRODID:-//81.88.36.52//NONSGML kigkonsult.se iCalcreator 2.20//
CALSCALE:GREGORIAN
METHOD:PUBLISH
X-WR-TIMEZONE:Europe/Vienna
BEGIN:VEVENT
UID:event1310@Online-Magazin SCHNAPPEN.AT: die interessanten Seiten des Leb
 ens
DTSTAMP:20260425T105458Z
CATEGORIES:Veranstaltungen
DESCRIPTION:Musical Güssing 2026: 'Rapunzel lässt kein Haar herunter' und M
 usical 'Wie im Himmel'\nKategorie: Veranstaltungen\nICS-Link: https://schn
 appen.at/oesterreich/index.php?option=com_jem&view=event&id=1310:musical-g
 uessing\n
DTSTART;VALUE=DATE:20260523
DTEND;VALUE=DATE:20260830
SUMMARY:Musical Güssing 2026: 'Rapunzel lässt kein Haar herunter' und Music
 al 'Wie im Himmel'
URL:https://schnappen.at/oesterreich/index.php?option=com_jem&view=event&id
 =1310:musical-guessing
END:VEVENT
END:VCALENDAR