BEGIN:VCALENDAR
VERSION:2.0
PRODID:-//81.88.36.52//NONSGML kigkonsult.se iCalcreator 2.20//
CALSCALE:GREGORIAN
METHOD:PUBLISH
X-WR-TIMEZONE:Europe/Vienna
BEGIN:VEVENT
UID:event1300@Online-Magazin SCHNAPPEN.AT: die interessanten Seiten des Leb
 ens
DTSTAMP:20260425T121654Z
CATEGORIES:Veranstaltungen
DESCRIPTION:David Guetta\nKategorie: Veranstaltungen\nICS-Link: https://sch
 nappen.at/oesterreich/index.php?option=com_jem&view=event&id=1300:david-gu
 etta\n
DTSTART;TZID=Europe/Vienna:20260905T200000
DTEND;TZID=Europe/Vienna:20260905T200000
SUMMARY:David Guetta
URL:https://schnappen.at/oesterreich/index.php?option=com_jem&view=event&id
 =1300:david-guetta
END:VEVENT
END:VCALENDAR