BEGIN:VCALENDAR
VERSION:2.0
PRODID:-//81.88.36.52//NONSGML kigkonsult.se iCalcreator 2.20//
CALSCALE:GREGORIAN
METHOD:PUBLISH
X-WR-TIMEZONE:Europe/Vienna
BEGIN:VEVENT
UID:event1298@Online-Magazin SCHNAPPEN.AT: die interessanten Seiten des Leb
 ens
DTSTAMP:20260425T122021Z
CATEGORIES:Veranstaltungen
DESCRIPTION:Culcha Candela in Österreich und Deutschland\nKategorie: Verans
 taltungen\nICS-Link: https://schnappen.at/oesterreich/index.php?option=com
 _jem&view=event&id=1298:culcha-candela\n
DTSTART;VALUE=DATE:20260830
DTEND;VALUE=DATE:20260831
SUMMARY:Culcha Candela in Österreich und Deutschland
URL:https://schnappen.at/oesterreich/index.php?option=com_jem&view=event&id
 =1298:culcha-candela
END:VEVENT
END:VCALENDAR