BEGIN:VCALENDAR
VERSION:2.0
PRODID:-//81.88.36.52//NONSGML kigkonsult.se iCalcreator 2.20//
CALSCALE:GREGORIAN
METHOD:PUBLISH
X-WR-TIMEZONE:Europe/Vienna
BEGIN:VEVENT
UID:event1285@Online-Magazin SCHNAPPEN.AT: die interessanten Seiten des Leb
 ens
DTSTAMP:20260425T121828Z
CATEGORIES:Veranstaltungen
DESCRIPTION:Fiddler's Green in Österreich\nKategorie: Veranstaltungen\nICS-
 Link: https://schnappen.at/oesterreich/index.php?option=com_jem&view=event
 &id=1285:fiddlersgreen\n
DTSTART;VALUE=DATE:20261029
DTEND;VALUE=DATE:20261030
SUMMARY:Fiddler's Green in Österreich
URL:https://schnappen.at/oesterreich/index.php?option=com_jem&view=event&id
 =1285:fiddlersgreen
END:VEVENT
END:VCALENDAR