BEGIN:VCALENDAR
VERSION:2.0
PRODID:-//81.88.36.52//NONSGML kigkonsult.se iCalcreator 2.20//
CALSCALE:GREGORIAN
METHOD:PUBLISH
X-WR-TIMEZONE:Europe/Vienna
BEGIN:VEVENT
UID:event1281@Online-Magazin SCHNAPPEN.AT: die interessanten Seiten des Leb
 ens
DTSTAMP:20260425T121824Z
CATEGORIES:Veranstaltungen
DESCRIPTION:Andrea Bocelli in Österreich \nKategorie: Veranstaltungen\nICS-
 Link: https://schnappen.at/oesterreich/index.php?option=com_jem&view=event
 &id=1281:bocelli\n
DTSTART;VALUE=DATE:20260822
DTEND;VALUE=DATE:20260823
LOCATION:Ernst Happel Stadion\,Meiereistr. 7\,1020 Wien
SUMMARY:Andrea Bocelli in Österreich 
URL:https://schnappen.at/oesterreich/index.php?option=com_jem&view=event&id
 =1281:bocelli
END:VEVENT
END:VCALENDAR