BEGIN:VCALENDAR
VERSION:2.0
PRODID:-//81.88.36.52//NONSGML kigkonsult.se iCalcreator 2.20//
CALSCALE:GREGORIAN
METHOD:PUBLISH
X-WR-TIMEZONE:Europe/Vienna
BEGIN:VEVENT
UID:event1277@Online-Magazin SCHNAPPEN.AT: die interessanten Seiten des Leb
 ens
DTSTAMP:20260425T122206Z
CATEGORIES:Veranstaltungen
DESCRIPTION:Sportfreunde Stiller in Österreich und Deutschland\nKategorie: 
 Veranstaltungen\nICS-Link: https://schnappen.at/oesterreich/index.php?opti
 on=com_jem&view=event&id=1277:sportfreunde-stiller\n
DTSTART;VALUE=DATE:20260718
DTEND;VALUE=DATE:20260719
SUMMARY:Sportfreunde Stiller in Österreich und Deutschland
URL:https://schnappen.at/oesterreich/index.php?option=com_jem&view=event&id
 =1277:sportfreunde-stiller
END:VEVENT
END:VCALENDAR