BEGIN:VCALENDAR
VERSION:2.0
PRODID:-//81.88.36.52//NONSGML kigkonsult.se iCalcreator 2.20//
CALSCALE:GREGORIAN
METHOD:PUBLISH
X-WR-TIMEZONE:Europe/Vienna
BEGIN:VEVENT
UID:event1274@Online-Magazin SCHNAPPEN.AT: die interessanten Seiten des Leb
 ens
DTSTAMP:20260425T121919Z
CATEGORIES:Wir berichten über...\, Veranstaltungen
DESCRIPTION:Klangfrühling Stadtschlaining\nKategorie: Wir berichten über...
 \, Veranstaltungen\nICS-Link: https://schnappen.at/oesterreich/index.php?o
 ption=com_jem&view=event&id=1274:klangfruehling\n
DTSTART;VALUE=DATE:20260509
DTEND;VALUE=DATE:20260518
LOCATION:Burg Schlaining\,Rochusplatz 1\,7461  Stadtschlaining
SUMMARY:Klangfrühling Stadtschlaining
URL:https://schnappen.at/oesterreich/index.php?option=com_jem&view=event&id
 =1274:klangfruehling
END:VEVENT
END:VCALENDAR