BEGIN:VCALENDAR
VERSION:2.0
PRODID:-//81.88.36.52//NONSGML kigkonsult.se iCalcreator 2.20//
CALSCALE:GREGORIAN
METHOD:PUBLISH
X-WR-TIMEZONE:Europe/Vienna
BEGIN:VEVENT
UID:event1272@Online-Magazin SCHNAPPEN.AT: die interessanten Seiten des Leb
 ens
DTSTAMP:20260425T121919Z
CATEGORIES:Veranstaltungen
DESCRIPTION:Herbstgold Festival 2026 Eisenstadt\nKategorie: Veranstaltungen
 \nICS-Link: https://schnappen.at/oesterreich/index.php?option=com_jem&view
 =event&id=1272:herbstgold\n
DTSTART;VALUE=DATE:20260916
DTEND;VALUE=DATE:20260927
LOCATION:Schloss Esterhazy Eisenstadt\,Esterházyplatz 5\,7000  Eisenstadt
SUMMARY:Herbstgold Festival 2026 Eisenstadt
URL:https://schnappen.at/oesterreich/index.php?option=com_jem&view=event&id
 =1272:herbstgold
END:VEVENT
END:VCALENDAR