BEGIN:VCALENDAR
VERSION:2.0
PRODID:-//81.88.36.52//NONSGML kigkonsult.se iCalcreator 2.20//
CALSCALE:GREGORIAN
METHOD:PUBLISH
X-WR-TIMEZONE:Europe/Vienna
BEGIN:VEVENT
UID:event1266@Online-Magazin SCHNAPPEN.AT: die interessanten Seiten des Leb
 ens
DTSTAMP:20260425T122100Z
CATEGORIES:Veranstaltungen
DESCRIPTION:Kammermusikfest Lockenhaus\nKategorie: Veranstaltungen\nICS-Lin
 k: https://schnappen.at/oesterreich/index.php?option=com_jem&view=event&id
 =1266:kammermusik\n
DTSTART;VALUE=DATE:20260709
DTEND;VALUE=DATE:20260719
LOCATION:Kirche Lockenhaus\,Hauptplatz 5\,7442 Lockenhaus
SUMMARY:Kammermusikfest Lockenhaus
URL:https://schnappen.at/oesterreich/index.php?option=com_jem&view=event&id
 =1266:kammermusik
END:VEVENT
END:VCALENDAR