BEGIN:VCALENDAR
VERSION:2.0
PRODID:-//81.88.36.52//NONSGML kigkonsult.se iCalcreator 2.20//
CALSCALE:GREGORIAN
METHOD:PUBLISH
X-WR-TIMEZONE:Europe/Vienna
BEGIN:VEVENT
UID:event1263@Online-Magazin SCHNAPPEN.AT: die interessanten Seiten des Leb
 ens
DTSTAMP:20260425T105505Z
CATEGORIES:Veranstaltungen
DESCRIPTION:X Cross Run Wien\nKategorie: Veranstaltungen\nICS-Link: https:/
 /schnappen.at/oesterreich/index.php?option=com_jem&view=event&id=1263:x-cr
 oss-run\n
DTSTART;VALUE=DATE:20260613
DTEND;VALUE=DATE:20260614
SUMMARY:X Cross Run Wien
URL:https://schnappen.at/oesterreich/index.php?option=com_jem&view=event&id
 =1263:x-cross-run
END:VEVENT
END:VCALENDAR