BEGIN:VCALENDAR
VERSION:2.0
PRODID:-//81.88.36.52//NONSGML kigkonsult.se iCalcreator 2.20//
CALSCALE:GREGORIAN
METHOD:PUBLISH
X-WR-TIMEZONE:Europe/Vienna
BEGIN:VEVENT
UID:event1254@Online-Magazin SCHNAPPEN.AT: die interessanten Seiten des Leb
 ens
DTSTAMP:20260425T122244Z
CATEGORIES:Veranstaltungen
DESCRIPTION:'Wean hean' Wienerliedfestival 2026\nKategorie: Veranstaltungen
 \nICS-Link: https://schnappen.at/oesterreich/index.php?option=com_jem&view
 =event&id=1254:wienerlied-festival\n
DTSTART;VALUE=DATE:20260426
DTEND;VALUE=DATE:20260511
SUMMARY:'Wean hean' Wienerliedfestival 2026
URL:https://schnappen.at/oesterreich/index.php?option=com_jem&view=event&id
 =1254:wienerlied-festival
END:VEVENT
END:VCALENDAR