BEGIN:VCALENDAR
VERSION:2.0
PRODID:-//81.88.36.52//NONSGML kigkonsult.se iCalcreator 2.20//
CALSCALE:GREGORIAN
METHOD:PUBLISH
X-WR-TIMEZONE:Europe/Vienna
BEGIN:VEVENT
UID:event1250@Online-Magazin SCHNAPPEN.AT: die interessanten Seiten des Leb
 ens
DTSTAMP:20260425T121323Z
CATEGORIES:Veranstaltungen
DESCRIPTION:SDP in Österreich und Deutschland\nKategorie: Veranstaltungen\n
 ICS-Link: https://schnappen.at/oesterreich/index.php?option=com_jem&view=e
 vent&id=1250:sdp\n
DTSTART;VALUE=DATE:20260820
DTEND;VALUE=DATE:20260821
SUMMARY:SDP in Österreich und Deutschland
URL:https://schnappen.at/oesterreich/index.php?option=com_jem&view=event&id
 =1250:sdp
END:VEVENT
END:VCALENDAR