BEGIN:VCALENDAR
VERSION:2.0
PRODID:-//81.88.36.52//NONSGML kigkonsult.se iCalcreator 2.20//
CALSCALE:GREGORIAN
METHOD:PUBLISH
X-WR-TIMEZONE:Europe/Vienna
BEGIN:VEVENT
UID:event124@Online-Magazin SCHNAPPEN.AT: die interessanten Seiten des Lebe
 ns
DTSTAMP:20260425T121945Z
CATEGORIES:Veranstaltungen
DESCRIPTION:Marina and the Kats  \nKategorie: Veranstaltungen\nICS-Link: ht
 tps://schnappen.at/oesterreich/index.php?option=com_jem&view=event&id=124:
 marina-kats\n
DTSTART;VALUE=DATE:20260430
DTEND;VALUE=DATE:20260501
SUMMARY:Marina and the Kats  
URL:https://schnappen.at/oesterreich/index.php?option=com_jem&view=event&id
 =124:marina-kats
END:VEVENT
END:VCALENDAR