BEGIN:VCALENDAR
VERSION:2.0
PRODID:-//81.88.36.52//NONSGML kigkonsult.se iCalcreator 2.20//
CALSCALE:GREGORIAN
METHOD:PUBLISH
X-WR-TIMEZONE:Europe/Vienna
BEGIN:VEVENT
UID:event1242@Online-Magazin SCHNAPPEN.AT: die interessanten Seiten des Leb
 ens
DTSTAMP:20260425T122123Z
CATEGORIES:Termine noch offen
DESCRIPTION:Festival Glatt & Verkehrt 2026\nKategorie: Termine noch offen\n
 ICS-Link: https://schnappen.at/oesterreich/index.php?option=com_jem&view=e
 vent&id=1242:glatt-verkehrt\n
DTSTART;VALUE=DATE:20260710
DTEND;VALUE=DATE:20260727
SUMMARY:Festival Glatt & Verkehrt 2026
URL:https://schnappen.at/oesterreich/index.php?option=com_jem&view=event&id
 =1242:glatt-verkehrt
END:VEVENT
END:VCALENDAR