BEGIN:VCALENDAR
VERSION:2.0
PRODID:-//81.88.36.52//NONSGML kigkonsult.se iCalcreator 2.20//
CALSCALE:GREGORIAN
METHOD:PUBLISH
X-WR-TIMEZONE:Europe/Vienna
BEGIN:VEVENT
UID:event123@Online-Magazin SCHNAPPEN.AT: die interessanten Seiten des Lebe
 ns
DTSTAMP:20260425T121808Z
CATEGORIES:Veranstaltungen
DESCRIPTION:Alphaville \nKategorie: Veranstaltungen\nICS-Link: https://schn
 appen.at/oesterreich/index.php?option=com_jem&view=event&id=123:alphaville
 \n
DTSTART;VALUE=DATE:20260724
DTEND;VALUE=DATE:20260725
SUMMARY:Alphaville 
URL:https://schnappen.at/oesterreich/index.php?option=com_jem&view=event&id
 =123:alphaville
END:VEVENT
END:VCALENDAR