BEGIN:VCALENDAR
VERSION:2.0
PRODID:-//81.88.36.52//NONSGML kigkonsult.se iCalcreator 2.20//
CALSCALE:GREGORIAN
METHOD:PUBLISH
X-WR-TIMEZONE:Europe/Vienna
BEGIN:VEVENT
UID:event1237@Online-Magazin SCHNAPPEN.AT: die interessanten Seiten des Leb
 ens
DTSTAMP:20260425T121646Z
CATEGORIES:Termine noch offen
DESCRIPTION:Musical Festspiele Schloss Hartberg\nKategorie: Termine noch of
 fen\nICS-Link: https://schnappen.at/oesterreich/index.php?option=com_jem&v
 iew=event&id=1237:hartberg\n
DTSTART;VALUE=DATE:20260710
DTEND;VALUE=DATE:20260725
SUMMARY:Musical Festspiele Schloss Hartberg
URL:https://schnappen.at/oesterreich/index.php?option=com_jem&view=event&id
 =1237:hartberg
END:VEVENT
END:VCALENDAR