BEGIN:VCALENDAR
VERSION:2.0
PRODID:-//81.88.36.52//NONSGML kigkonsult.se iCalcreator 2.20//
CALSCALE:GREGORIAN
METHOD:PUBLISH
X-WR-TIMEZONE:Europe/Vienna
BEGIN:VEVENT
UID:event1219@Online-Magazin SCHNAPPEN.AT: die interessanten Seiten des Leb
 ens
DTSTAMP:20260425T122101Z
CATEGORIES:Veranstaltungen
DESCRIPTION:Schneeberger Quintett\, Quartett & Trio\nKategorie: Veranstaltu
 ngen\nICS-Link: https://schnappen.at/oesterreich/index.php?option=com_jem&
 view=event&id=1219:joschi-schneeberger\n
DTSTART;VALUE=DATE:20260428
DTEND;VALUE=DATE:20260429
SUMMARY:Schneeberger Quintett\, Quartett & Trio
URL:https://schnappen.at/oesterreich/index.php?option=com_jem&view=event&id
 =1219:joschi-schneeberger
END:VEVENT
END:VCALENDAR