BEGIN:VCALENDAR
VERSION:2.0
PRODID:-//81.88.36.52//NONSGML kigkonsult.se iCalcreator 2.20//
CALSCALE:GREGORIAN
METHOD:PUBLISH
X-WR-TIMEZONE:Europe/Vienna
BEGIN:VEVENT
UID:event1214@Online-Magazin SCHNAPPEN.AT: die interessanten Seiten des Leb
 ens
DTSTAMP:20260425T121939Z
CATEGORIES:Termine noch offen
DESCRIPTION:Ball der Heimat\nKategorie: Termine noch offen\nICS-Link: https
 ://schnappen.at/oesterreich/index.php?option=com_jem&view=event&id=1214:ba
 ll-heimat\n
DTSTART;VALUE=DATE:20270213
DTEND;VALUE=DATE:20270214
SUMMARY:Ball der Heimat
URL:https://schnappen.at/oesterreich/index.php?option=com_jem&view=event&id
 =1214:ball-heimat
END:VEVENT
END:VCALENDAR