BEGIN:VCALENDAR
VERSION:2.0
PRODID:-//81.88.36.52//NONSGML kigkonsult.se iCalcreator 2.20//
CALSCALE:GREGORIAN
METHOD:PUBLISH
X-WR-TIMEZONE:Europe/Vienna
BEGIN:VEVENT
UID:event1213@Online-Magazin SCHNAPPEN.AT: die interessanten Seiten des Leb
 ens
DTSTAMP:20260425T121938Z
CATEGORIES:Veranstaltungen\, Wir berichten über...
DESCRIPTION:Fasching Unterfrauenhaid\nKategorie: Veranstaltungen\, Wir beri
 chten über...\nICS-Link: https://schnappen.at/oesterreich/index.php?option
 =com_jem&view=event&id=1213:faschingsball\n
DTSTART;VALUE=DATE:20270209
DTEND;VALUE=DATE:20270210
SUMMARY:Fasching Unterfrauenhaid
URL:https://schnappen.at/oesterreich/index.php?option=com_jem&view=event&id
 =1213:faschingsball
END:VEVENT
END:VCALENDAR