BEGIN:VCALENDAR
VERSION:2.0
PRODID:-//81.88.36.52//NONSGML kigkonsult.se iCalcreator 2.20//
CALSCALE:GREGORIAN
METHOD:PUBLISH
X-WR-TIMEZONE:Europe/Vienna
BEGIN:VEVENT
UID:event1211@Online-Magazin SCHNAPPEN.AT: die interessanten Seiten des Leb
 ens
DTSTAMP:20260425T122206Z
CATEGORIES:Veranstaltungen
DESCRIPTION:North Sea Jazz 2026 in Rotterdam\nKategorie: Veranstaltungen\nI
 CS-Link: https://schnappen.at/oesterreich/index.php?option=com_jem&view=ev
 ent&id=1211:north-sea-jazz\n
DTSTART;VALUE=DATE:20260710
DTEND;VALUE=DATE:20260713
SUMMARY:North Sea Jazz 2026 in Rotterdam
URL:https://schnappen.at/oesterreich/index.php?option=com_jem&view=event&id
 =1211:north-sea-jazz
END:VEVENT
END:VCALENDAR