BEGIN:VCALENDAR
VERSION:2.0
PRODID:-//81.88.36.52//NONSGML kigkonsult.se iCalcreator 2.20//
CALSCALE:GREGORIAN
METHOD:PUBLISH
X-WR-TIMEZONE:Europe/Vienna
BEGIN:VEVENT
UID:event1205@Online-Magazin SCHNAPPEN.AT: die interessanten Seiten des Leb
 ens
DTSTAMP:20260425T122120Z
CATEGORIES:Veranstaltungen
DESCRIPTION:Die Toten Hosen\nKategorie: Veranstaltungen\nICS-Link: https://
 schnappen.at/oesterreich/index.php?option=com_jem&view=event&id=1205:toten
 -hosen\n
DTSTART;VALUE=DATE:20260912
DTEND;VALUE=DATE:20260913
SUMMARY:Die Toten Hosen
URL:https://schnappen.at/oesterreich/index.php?option=com_jem&view=event&id
 =1205:toten-hosen
END:VEVENT
END:VCALENDAR