BEGIN:VCALENDAR
VERSION:2.0
PRODID:-//81.88.36.52//NONSGML kigkonsult.se iCalcreator 2.20//
CALSCALE:GREGORIAN
METHOD:PUBLISH
X-WR-TIMEZONE:Europe/Vienna
BEGIN:VEVENT
UID:event1200@Online-Magazin SCHNAPPEN.AT: die interessanten Seiten des Leb
 ens
DTSTAMP:20260425T121807Z
CATEGORIES:Veranstaltungen
DESCRIPTION:Johannes Oerding in Österreich und Deutschland\nKategorie: Vera
 nstaltungen\nICS-Link: https://schnappen.at/oesterreich/index.php?option=c
 om_jem&view=event&id=1200:oerding\n
DTSTART;TZID=Europe/Vienna:20260905T200000
DTEND;TZID=Europe/Vienna:20260905T200000
SUMMARY:Johannes Oerding in Österreich und Deutschland
URL:https://schnappen.at/oesterreich/index.php?option=com_jem&view=event&id
 =1200:oerding
END:VEVENT
END:VCALENDAR