BEGIN:VCALENDAR
VERSION:2.0
PRODID:-//81.88.36.52//NONSGML kigkonsult.se iCalcreator 2.20//
CALSCALE:GREGORIAN
METHOD:PUBLISH
X-WR-TIMEZONE:Europe/Vienna
BEGIN:VEVENT
UID:event1195@Online-Magazin SCHNAPPEN.AT: die interessanten Seiten des Leb
 ens
DTSTAMP:20260425T122142Z
CATEGORIES:Termine noch offen
DESCRIPTION:Feuerwehr-Ball und Scheunenfest in Unterwaltersdorf\nKategorie:
  Termine noch offen\nICS-Link: https://schnappen.at/oesterreich/index.php?
 option=com_jem&view=event&id=1195:feuer-wehr-ball\n
DTSTART;TZID=Europe/Vienna:20260711T203000
DTEND;TZID=Europe/Vienna:20260712T203000
LOCATION:Feuerwehr Scheune Unterwaltersdorf\,L168\,2442 Ebreichsdorf
SUMMARY:Feuerwehr-Ball und Scheunenfest in Unterwaltersdorf
URL:https://schnappen.at/oesterreich/index.php?option=com_jem&view=event&id
 =1195:feuer-wehr-ball
END:VEVENT
END:VCALENDAR