BEGIN:VCALENDAR
VERSION:2.0
PRODID:-//81.88.36.52//NONSGML kigkonsult.se iCalcreator 2.20//
CALSCALE:GREGORIAN
METHOD:PUBLISH
X-WR-TIMEZONE:Europe/Vienna
BEGIN:VEVENT
UID:event1194@Online-Magazin SCHNAPPEN.AT: die interessanten Seiten des Leb
 ens
DTSTAMP:20260425T134118Z
CATEGORIES:Ballkalender & Balltermine
DESCRIPTION:Jägerball in Wr. Neustadt 2026\nKategorie: Ballkalender & Ballt
 ermine\nICS-Link: https://schnappen.at/oesterreich/index.php?option=com_je
 m&view=event&id=1194:jaeger-ball\n
DTSTART;TZID=Europe/Vienna:20261009T203000
DTEND;TZID=Europe/Vienna:20261009T203000
LOCATION:Sparkassensaal Wr. Neustadt\,Neunkirchner Str. 17\,2700  Wr. Neust
 adt
SUMMARY:Jägerball in Wr. Neustadt 2026
URL:https://schnappen.at/oesterreich/index.php?option=com_jem&view=event&id
 =1194:jaeger-ball
END:VEVENT
END:VCALENDAR