BEGIN:VCALENDAR
VERSION:2.0
PRODID:-//81.88.36.52//NONSGML kigkonsult.se iCalcreator 2.20//
CALSCALE:GREGORIAN
METHOD:PUBLISH
X-WR-TIMEZONE:Europe/Vienna
BEGIN:VEVENT
UID:event1186@Online-Magazin SCHNAPPEN.AT: die interessanten Seiten des Leb
 ens
DTSTAMP:20260425T121810Z
CATEGORIES:Termine noch offen
DESCRIPTION:Ball der Industrie & Technik\nKategorie: Termine noch offen\nIC
 S-Link: https://schnappen.at/oesterreich/index.php?option=com_jem&view=eve
 nt&id=1186:techniker-cercle\n
DTSTART;VALUE=DATE:20270123
DTEND;VALUE=DATE:20270124
LOCATION:Musikverein Wien\,Musikvereinsplatz 1\,1010  Wien
SUMMARY:Ball der Industrie & Technik
URL:https://schnappen.at/oesterreich/index.php?option=com_jem&view=event&id
 =1186:techniker-cercle
END:VEVENT
END:VCALENDAR