BEGIN:VCALENDAR
VERSION:2.0
PRODID:-//81.88.36.52//NONSGML kigkonsult.se iCalcreator 2.20//
CALSCALE:GREGORIAN
METHOD:PUBLISH
X-WR-TIMEZONE:Europe/Vienna
BEGIN:VEVENT
UID:event1177@Online-Magazin SCHNAPPEN.AT: die interessanten Seiten des Leb
 ens
DTSTAMP:20260425T121829Z
CATEGORIES:Veranstaltungen
DESCRIPTION:Max Giesinger in Deutschland\nKategorie: Veranstaltungen\nICS-L
 ink: https://schnappen.at/oesterreich/index.php?option=com_jem&view=event&
 id=1177:giesinger\n
DTSTART;VALUE=DATE:20260905
DTEND;VALUE=DATE:20260906
SUMMARY:Max Giesinger in Deutschland
URL:https://schnappen.at/oesterreich/index.php?option=com_jem&view=event&id
 =1177:giesinger
END:VEVENT
END:VCALENDAR