BEGIN:VCALENDAR
VERSION:2.0
PRODID:-//81.88.36.52//NONSGML kigkonsult.se iCalcreator 2.20//
CALSCALE:GREGORIAN
METHOD:PUBLISH
X-WR-TIMEZONE:Europe/Vienna
BEGIN:VEVENT
UID:event1171@Online-Magazin SCHNAPPEN.AT: die interessanten Seiten des Leb
 ens
DTSTAMP:20260425T121826Z
CATEGORIES:Messeveranstaltungen im Messekalender
DESCRIPTION:Baumesse Oberwart\nKategorie: Messeveranstaltungen im Messekale
 nder\nICS-Link: https://schnappen.at/oesterreich/index.php?option=com_jem&
 view=event&id=1171:baumesse\n
DTSTART;VALUE=DATE:20270128
DTEND;VALUE=DATE:20270201
LOCATION:Messezentrum Oberwart\,Informstr. 1\,7400 Oberwart
SUMMARY:Baumesse Oberwart
URL:https://schnappen.at/oesterreich/index.php?option=com_jem&view=event&id
 =1171:baumesse
END:VEVENT
END:VCALENDAR