BEGIN:VCALENDAR
VERSION:2.0
PRODID:-//81.88.36.52//NONSGML kigkonsult.se iCalcreator 2.20//
CALSCALE:GREGORIAN
METHOD:PUBLISH
X-WR-TIMEZONE:Europe/Vienna
BEGIN:VEVENT
UID:event1170@Online-Magazin SCHNAPPEN.AT: die interessanten Seiten des Leb
 ens
DTSTAMP:20260425T121950Z
CATEGORIES:Termine noch offen
DESCRIPTION:'Geh ma Hauer schauen' in Pfaffstätten\nKategorie: Termine noch
  offen\nICS-Link: https://schnappen.at/oesterreich/index.php?option=com_je
 m&view=event&id=1170:hauer-schauen\n
DTSTART;VALUE=DATE:20270410
DTEND;VALUE=DATE:20270411
SUMMARY:'Geh ma Hauer schauen' in Pfaffstätten
URL:https://schnappen.at/oesterreich/index.php?option=com_jem&view=event&id
 =1170:hauer-schauen
END:VEVENT
END:VCALENDAR