BEGIN:VCALENDAR
VERSION:2.0
PRODID:-//81.88.36.52//NONSGML kigkonsult.se iCalcreator 2.20//
CALSCALE:GREGORIAN
METHOD:PUBLISH
X-WR-TIMEZONE:Europe/Vienna
BEGIN:VEVENT
UID:event1169@Online-Magazin SCHNAPPEN.AT: die interessanten Seiten des Leb
 ens
DTSTAMP:20260425T110314Z
CATEGORIES:Veranstaltungen
DESCRIPTION:Events im Kulturzentrum Mattersburg: Lesung\, Kabarett\, Theate
 r\nKategorie: Veranstaltungen\nICS-Link: https://schnappen.at/oesterreich/
 index.php?option=com_jem&view=event&id=1169:kuz-mattersburg\n
DTSTART;VALUE=DATE:20260613
DTEND;VALUE=DATE:20260614
LOCATION:Kulturzentrum Mattersburg\,Wulkalände 2\,7210 Mattersburg
SUMMARY:Events im Kulturzentrum Mattersburg: Lesung\, Kabarett\, Theater
URL:https://schnappen.at/oesterreich/index.php?option=com_jem&view=event&id
 =1169:kuz-mattersburg
END:VEVENT
END:VCALENDAR