BEGIN:VCALENDAR
VERSION:2.0
PRODID:-//81.88.36.52//NONSGML kigkonsult.se iCalcreator 2.20//
CALSCALE:GREGORIAN
METHOD:PUBLISH
X-WR-TIMEZONE:Europe/Vienna
BEGIN:VEVENT
UID:event1163@Online-Magazin SCHNAPPEN.AT: die interessanten Seiten des Leb
 ens
DTSTAMP:20260425T121942Z
CATEGORIES:Veranstaltungen
DESCRIPTION:Ursprung Buam\nKategorie: Veranstaltungen\nICS-Link: https://sc
 hnappen.at/oesterreich/index.php?option=com_jem&view=event&id=1163:ursprun
 g-buam\n
DTSTART;VALUE=DATE:20260710
DTEND;VALUE=DATE:20260713
SUMMARY:Ursprung Buam
URL:https://schnappen.at/oesterreich/index.php?option=com_jem&view=event&id
 =1163:ursprung-buam
END:VEVENT
END:VCALENDAR