BEGIN:VCALENDAR
VERSION:2.0
PRODID:-//81.88.36.52//NONSGML kigkonsult.se iCalcreator 2.20//
CALSCALE:GREGORIAN
METHOD:PUBLISH
X-WR-TIMEZONE:Europe/Vienna
BEGIN:VEVENT
UID:event1161@Online-Magazin SCHNAPPEN.AT: die interessanten Seiten des Leb
 ens
DTSTAMP:20260425T121823Z
CATEGORIES:Termine noch offen
DESCRIPTION:Advent am Dom Wr. Neustadt\nKategorie: Termine noch offen\nICS-
 Link: https://schnappen.at/oesterreich/index.php?option=com_jem&view=event
 &id=1161:advent-dom\n
DTSTART;VALUE=DATE:20261205
DTEND;VALUE=DATE:20261207
SUMMARY:Advent am Dom Wr. Neustadt
URL:https://schnappen.at/oesterreich/index.php?option=com_jem&view=event&id
 =1161:advent-dom
END:VEVENT
END:VCALENDAR