BEGIN:VCALENDAR
VERSION:2.0
PRODID:-//81.88.36.52//NONSGML kigkonsult.se iCalcreator 2.20//
CALSCALE:GREGORIAN
METHOD:PUBLISH
X-WR-TIMEZONE:Europe/Vienna
BEGIN:VEVENT
UID:event1156@Online-Magazin SCHNAPPEN.AT: die interessanten Seiten des Leb
 ens
DTSTAMP:20260424T133511Z
CATEGORIES:Termine noch offen
DESCRIPTION:Musical 'The Trail to Oregon' in Wien\nKategorie: Termine noch 
 offen\nICS-Link: https://schnappen.at/oesterreich/index.php?option=com_jem
 &view=event&id=1156:trail-oregon\n
DTSTART;TZID=Europe/Vienna:20171117T190000
DTEND;TZID=Europe/Vienna:20171122T190000
LOCATION:Brick5 in Wien\,Fünfhausgasse 5\,1150 Wien
SUMMARY:Musical 'The Trail to Oregon' in Wien
URL:https://schnappen.at/oesterreich/index.php?option=com_jem&view=event&id
 =1156:trail-oregon
END:VEVENT
END:VCALENDAR