BEGIN:VCALENDAR
VERSION:2.0
PRODID:-//81.88.36.52//NONSGML kigkonsult.se iCalcreator 2.20//
CALSCALE:GREGORIAN
METHOD:PUBLISH
X-WR-TIMEZONE:Europe/Vienna
BEGIN:VEVENT
UID:event1155@Online-Magazin SCHNAPPEN.AT: die interessanten Seiten des Leb
 ens
DTSTAMP:20260425T134036Z
CATEGORIES:Messeveranstaltungen im Messekalender
DESCRIPTION:Kulinarik Salzburg: Genussmesse \nKategorie: Messeveranstaltung
 en im Messekalender\nICS-Link: https://schnappen.at/oesterreich/index.php?
 option=com_jem&view=event&id=1155:kulinarik\n
DTSTART;VALUE=DATE:20270305
DTEND;VALUE=DATE:20270308
LOCATION:Messezentrum Salzburg\,Am Messezentrum 1\,5020 Salzburg
SUMMARY:Kulinarik Salzburg: Genussmesse 
URL:https://schnappen.at/oesterreich/index.php?option=com_jem&view=event&id
 =1155:kulinarik
END:VEVENT
END:VCALENDAR