BEGIN:VCALENDAR
VERSION:2.0
PRODID:-//81.88.36.52//NONSGML kigkonsult.se iCalcreator 2.20//
CALSCALE:GREGORIAN
METHOD:PUBLISH
X-WR-TIMEZONE:Europe/Vienna
BEGIN:VEVENT
UID:event1154@Online-Magazin SCHNAPPEN.AT: die interessanten Seiten des Leb
 ens
DTSTAMP:20260425T121831Z
CATEGORIES:Veranstaltungen\, Heurigentermine
DESCRIPTION:Weinfest 2026 Traiskirchen\nKategorie: Veranstaltungen\, Heurig
 entermine\nICS-Link: https://schnappen.at/oesterreich/index.php?option=com
 _jem&view=event&id=1154:weinfest\n
DTSTART;VALUE=DATE:20260626
DTEND;VALUE=DATE:20260713
SUMMARY:Weinfest 2026 Traiskirchen
URL:https://schnappen.at/oesterreich/index.php?option=com_jem&view=event&id
 =1154:weinfest
END:VEVENT
END:VCALENDAR