BEGIN:VCALENDAR
VERSION:2.0
PRODID:-//81.88.36.52//NONSGML kigkonsult.se iCalcreator 2.20//
CALSCALE:GREGORIAN
METHOD:PUBLISH
X-WR-TIMEZONE:Europe/Vienna
BEGIN:VEVENT
UID:event1153@Online-Magazin SCHNAPPEN.AT: die interessanten Seiten des Leb
 ens
DTSTAMP:20260425T121806Z
CATEGORIES:Termine noch offen
DESCRIPTION:Seefest am Neufeldersee\nKategorie: Termine noch offen\nICS-Lin
 k: https://schnappen.at/oesterreich/index.php?option=com_jem&view=event&id
 =1153:seefest\n
DTSTART;VALUE=DATE:20260627
DTEND;VALUE=DATE:20260628
LOCATION:Neufelder See\,Eisenstädter Str. 37\,2492 Neufeld a. d. Leitha
SUMMARY:Seefest am Neufeldersee
URL:https://schnappen.at/oesterreich/index.php?option=com_jem&view=event&id
 =1153:seefest
END:VEVENT
END:VCALENDAR