BEGIN:VCALENDAR
VERSION:2.0
PRODID:-//81.88.36.52//NONSGML kigkonsult.se iCalcreator 2.20//
CALSCALE:GREGORIAN
METHOD:PUBLISH
X-WR-TIMEZONE:Europe/Vienna
BEGIN:VEVENT
UID:event1151@Online-Magazin SCHNAPPEN.AT: die interessanten Seiten des Leb
 ens
DTSTAMP:20260425T122241Z
CATEGORIES:Veranstaltungen
DESCRIPTION:Reisenberg: Kirtag\, Theater\, Konzerte & Events\nKategorie: Ve
 ranstaltungen\nICS-Link: https://schnappen.at/oesterreich/index.php?option
 =com_jem&view=event&id=1151:reisenberg-events\n
DTSTART;TZID=Europe/Vienna:20260822T200000
DTEND;TZID=Europe/Vienna:20260824T200000
LOCATION:Kulturhalle Reisenberg\,Reaktorstraße 3\,2440 Reisenberg
SUMMARY:Reisenberg: Kirtag\, Theater\, Konzerte & Events
URL:https://schnappen.at/oesterreich/index.php?option=com_jem&view=event&id
 =1151:reisenberg-events
END:VEVENT
END:VCALENDAR