BEGIN:VCALENDAR
VERSION:2.0
PRODID:-//81.88.36.52//NONSGML kigkonsult.se iCalcreator 2.20//
CALSCALE:GREGORIAN
METHOD:PUBLISH
X-WR-TIMEZONE:Europe/Vienna
BEGIN:VEVENT
UID:event1146@Online-Magazin SCHNAPPEN.AT: die interessanten Seiten des Leb
 ens
DTSTAMP:20260425T134031Z
CATEGORIES:Bauernmarkt & Adventmaerkte
DESCRIPTION:Weihnachtsmarkt Aggstein\nKategorie: Bauernmarkt & Adventmaerkt
 e\nICS-Link: https://schnappen.at/oesterreich/index.php?option=com_jem&vie
 w=event&id=1146:aggstein\n
DTSTART;VALUE=DATE:20261114
DTEND;VALUE=DATE:20261116
LOCATION:Burgruine Aggstein\,Kuenringerstraße 13\,3394 Aggstein
SUMMARY:Weihnachtsmarkt Aggstein
URL:https://schnappen.at/oesterreich/index.php?option=com_jem&view=event&id
 =1146:aggstein
END:VEVENT
END:VCALENDAR