BEGIN:VCALENDAR
VERSION:2.0
PRODID:-//81.88.36.52//NONSGML kigkonsult.se iCalcreator 2.20//
CALSCALE:GREGORIAN
METHOD:PUBLISH
X-WR-TIMEZONE:Europe/Vienna
BEGIN:VEVENT
UID:event1145@Online-Magazin SCHNAPPEN.AT: die interessanten Seiten des Leb
 ens
DTSTAMP:20260425T121646Z
CATEGORIES:Termine noch offen
DESCRIPTION:Burgruine Aggstein: Events\nKategorie: Termine noch offen\nICS-
 Link: https://schnappen.at/oesterreich/index.php?option=com_jem&view=event
 &id=1145:aggstein\n
DTSTART;VALUE=DATE:20261026
DTEND;VALUE=DATE:20261027
LOCATION:Burgruine Aggstein\,Kuenringerstraße 13\,3394 Aggstein
SUMMARY:Burgruine Aggstein: Events
URL:https://schnappen.at/oesterreich/index.php?option=com_jem&view=event&id
 =1145:aggstein
END:VEVENT
END:VCALENDAR