BEGIN:VCALENDAR
VERSION:2.0
PRODID:-//81.88.36.52//NONSGML kigkonsult.se iCalcreator 2.20//
CALSCALE:GREGORIAN
METHOD:PUBLISH
X-WR-TIMEZONE:Europe/Vienna
BEGIN:VEVENT
UID:event1144@Online-Magazin SCHNAPPEN.AT: die interessanten Seiten des Leb
 ens
DTSTAMP:20260425T121938Z
CATEGORIES:Veranstaltungen
DESCRIPTION:Havasi Symphonic Concert Show in Ungarn\nKategorie: Veranstaltu
 ngen\nICS-Link: https://schnappen.at/oesterreich/index.php?option=com_jem&
 view=event&id=1144:havasi\n
DTSTART;TZID=Europe/Vienna:20261205T193000
DTEND;TZID=Europe/Vienna:20261205T193000
SUMMARY:Havasi Symphonic Concert Show in Ungarn
URL:https://schnappen.at/oesterreich/index.php?option=com_jem&view=event&id
 =1144:havasi
END:VEVENT
END:VCALENDAR