BEGIN:VCALENDAR
VERSION:2.0
PRODID:-//81.88.36.52//NONSGML kigkonsult.se iCalcreator 2.20//
CALSCALE:GREGORIAN
METHOD:PUBLISH
X-WR-TIMEZONE:Europe/Vienna
BEGIN:VEVENT
UID:event1143@Online-Magazin SCHNAPPEN.AT: die interessanten Seiten des Leb
 ens
DTSTAMP:20260425T105621Z
CATEGORIES:Veranstaltungen
DESCRIPTION:Wiener Akademische Philharmonie\nKategorie: Veranstaltungen\nIC
 S-Link: https://schnappen.at/oesterreich/index.php?option=com_jem&view=eve
 nt&id=1143:wiener-philharmonie\n
DTSTART;VALUE=DATE:20260606
DTEND;VALUE=DATE:20260607
LOCATION:Musikverein Wien\,Musikvereinsplatz 1\,1010  Wien
SUMMARY:Wiener Akademische Philharmonie
URL:https://schnappen.at/oesterreich/index.php?option=com_jem&view=event&id
 =1143:wiener-philharmonie
END:VEVENT
END:VCALENDAR