BEGIN:VCALENDAR
VERSION:2.0
PRODID:-//81.88.36.52//NONSGML kigkonsult.se iCalcreator 2.20//
CALSCALE:GREGORIAN
METHOD:PUBLISH
X-WR-TIMEZONE:Europe/Vienna
BEGIN:VEVENT
UID:event1133@Online-Magazin SCHNAPPEN.AT: die interessanten Seiten des Leb
 ens
DTSTAMP:20260425T105458Z
CATEGORIES:Veranstaltungen
DESCRIPTION:Trabrennen in Baden: Traben in Baden\nKategorie: Veranstaltunge
 n\nICS-Link: https://schnappen.at/oesterreich/index.php?option=com_jem&vie
 w=event&id=1133:trabrennen\n
DTSTART;VALUE=DATE:20260531
DTEND;VALUE=DATE:20260907
SUMMARY:Trabrennen in Baden: Traben in Baden
URL:https://schnappen.at/oesterreich/index.php?option=com_jem&view=event&id
 =1133:trabrennen
END:VEVENT
END:VCALENDAR