BEGIN:VCALENDAR
VERSION:2.0
PRODID:-//81.88.36.52//NONSGML kigkonsult.se iCalcreator 2.20//
CALSCALE:GREGORIAN
METHOD:PUBLISH
X-WR-TIMEZONE:Europe/Vienna
BEGIN:VEVENT
UID:event1130@Online-Magazin SCHNAPPEN.AT: die interessanten Seiten des Leb
 ens
DTSTAMP:20260425T121954Z
CATEGORIES:Veranstaltungen
DESCRIPTION:Wienerlied - und: Der musikalische Adventkalender\nKategorie: V
 eranstaltungen\nICS-Link: https://schnappen.at/oesterreich/index.php?optio
 n=com_jem&view=event&id=1130:wienerlied-adventkalender\n
DTSTART;VALUE=DATE:20261201
DTEND;VALUE=DATE:20261224
SUMMARY:Wienerlied - und: Der musikalische Adventkalender
URL:https://schnappen.at/oesterreich/index.php?option=com_jem&view=event&id
 =1130:wienerlied-adventkalender
END:VEVENT
END:VCALENDAR