BEGIN:VCALENDAR
VERSION:2.0
PRODID:-//81.88.36.52//NONSGML kigkonsult.se iCalcreator 2.20//
CALSCALE:GREGORIAN
METHOD:PUBLISH
X-WR-TIMEZONE:Europe/Vienna
BEGIN:VEVENT
UID:event1123@Online-Magazin SCHNAPPEN.AT: die interessanten Seiten des Leb
 ens
DTSTAMP:20260425T121826Z
CATEGORIES:Veranstaltungen
DESCRIPTION:Mighty Oaks\nKategorie: Veranstaltungen\nICS-Link: https://schn
 appen.at/oesterreich/index.php?option=com_jem&view=event&id=1123:mighty-oa
 ks\n
DTSTART;VALUE=DATE:20260804
DTEND;VALUE=DATE:20260805
SUMMARY:Mighty Oaks
URL:https://schnappen.at/oesterreich/index.php?option=com_jem&view=event&id
 =1123:mighty-oaks
END:VEVENT
END:VCALENDAR