BEGIN:VCALENDAR
VERSION:2.0
PRODID:-//81.88.36.52//NONSGML kigkonsult.se iCalcreator 2.20//
CALSCALE:GREGORIAN
METHOD:PUBLISH
X-WR-TIMEZONE:Europe/Vienna
BEGIN:VEVENT
UID:event1119@Online-Magazin SCHNAPPEN.AT: die interessanten Seiten des Leb
 ens
DTSTAMP:20260425T121943Z
CATEGORIES:Veranstaltungen
DESCRIPTION:Alvaro Soler in Österreich und Deutschland\nKategorie: Veransta
 ltungen\nICS-Link: https://schnappen.at/oesterreich/index.php?option=com_j
 em&view=event&id=1119:alvaro-soler\n
DTSTART;VALUE=DATE:20260501
DTEND;VALUE=DATE:20260502
SUMMARY:Alvaro Soler in Österreich und Deutschland
URL:https://schnappen.at/oesterreich/index.php?option=com_jem&view=event&id
 =1119:alvaro-soler
END:VEVENT
END:VCALENDAR