BEGIN:VCALENDAR
VERSION:2.0
PRODID:-//81.88.36.52//NONSGML kigkonsult.se iCalcreator 2.20//
CALSCALE:GREGORIAN
METHOD:PUBLISH
X-WR-TIMEZONE:Europe/Vienna
BEGIN:VEVENT
UID:event1115@Online-Magazin SCHNAPPEN.AT: die interessanten Seiten des Leb
 ens
DTSTAMP:20260425T121954Z
CATEGORIES:Veranstaltungen
DESCRIPTION:Andreas Kümmert in Deutschland & Österreich\nKategorie: Veranst
 altungen\nICS-Link: https://schnappen.at/oesterreich/index.php?option=com_
 jem&view=event&id=1115:andreas-kuemmert\n
DTSTART;TZID=Europe/Vienna:20261127T200000
DTEND;TZID=Europe/Vienna:20261127T200000
SUMMARY:Andreas Kümmert in Deutschland & Österreich
URL:https://schnappen.at/oesterreich/index.php?option=com_jem&view=event&id
 =1115:andreas-kuemmert
END:VEVENT
END:VCALENDAR