BEGIN:VCALENDAR
VERSION:2.0
PRODID:-//81.88.36.52//NONSGML kigkonsult.se iCalcreator 2.20//
CALSCALE:GREGORIAN
METHOD:PUBLISH
X-WR-TIMEZONE:Europe/Vienna
BEGIN:VEVENT
UID:event1113@Online-Magazin SCHNAPPEN.AT: die interessanten Seiten des Leb
 ens
DTSTAMP:20260425T121817Z
CATEGORIES:Termine noch offen
DESCRIPTION:Stürmisches Bluzafest in Hanfthal\nKategorie: Termine noch offe
 n\nICS-Link: https://schnappen.at/oesterreich/index.php?option=com_jem&vie
 w=event&id=1113:hanfthal\n
DTSTART;VALUE=DATE:20260912
DTEND;VALUE=DATE:20260914
SUMMARY:Stürmisches Bluzafest in Hanfthal
URL:https://schnappen.at/oesterreich/index.php?option=com_jem&view=event&id
 =1113:hanfthal
END:VEVENT
END:VCALENDAR